BEGIN:VCALENDAR
VERSION:2.0
PRODID:-//Zimbabwe UK Business Chamber - ECPv6.15.20//NONSGML v1.0//EN
CALSCALE:GREGORIAN
METHOD:PUBLISH
X-ORIGINAL-URL:https://zimukbc.com
X-WR-CALDESC:Events for Zimbabwe UK Business Chamber
REFRESH-INTERVAL;VALUE=DURATION:PT1H
X-Robots-Tag:noindex
X-PUBLISHED-TTL:PT1H
BEGIN:VTIMEZONE
TZID:Europe/London
BEGIN:DAYLIGHT
TZOFFSETFROM:+0000
TZOFFSETTO:+0100
TZNAME:BST
DTSTART:20250330T010000
END:DAYLIGHT
BEGIN:STANDARD
TZOFFSETFROM:+0100
TZOFFSETTO:+0000
TZNAME:GMT
DTSTART:20251026T010000
END:STANDARD
BEGIN:DAYLIGHT
TZOFFSETFROM:+0000
TZOFFSETTO:+0100
TZNAME:BST
DTSTART:20260329T010000
END:DAYLIGHT
BEGIN:STANDARD
TZOFFSETFROM:+0100
TZOFFSETTO:+0000
TZNAME:GMT
DTSTART:20261025T010000
END:STANDARD
BEGIN:DAYLIGHT
TZOFFSETFROM:+0000
TZOFFSETTO:+0100
TZNAME:BST
DTSTART:20270328T010000
END:DAYLIGHT
BEGIN:STANDARD
TZOFFSETFROM:+0100
TZOFFSETTO:+0000
TZNAME:GMT
DTSTART:20271031T010000
END:STANDARD
END:VTIMEZONE
BEGIN:VEVENT
DTSTART;TZID=Europe/London:20260321T110000
DTEND;TZID=Europe/London:20260321T220000
DTSTAMP:20260424T200610
CREATED:20260106T212724Z
LAST-MODIFIED:20260223T172149Z
UID:5793-1774090800-1774130400@zimukbc.com
SUMMARY:Anniversary Spring Conference - 21 March 2026
DESCRIPTION:Click HERE to register to the Attend Anniversary Spring Conference – 21 March 2026\n \n 
URL:https://zimukbc.com/event/anniversary-celebration-conference-21-march-2026/
LOCATION:Staverton Park Hotel & Golf Club\, Daventry\, UK\, NN11 6JT
CATEGORIES:Conferences
END:VEVENT
END:VCALENDAR