BEGIN:VCALENDAR
VERSION:2.0
PRODID:-//Zimbabwe UK Business Chamber - ECPv6.15.20//NONSGML v1.0//EN
CALSCALE:GREGORIAN
METHOD:PUBLISH
X-ORIGINAL-URL:https://zimukbc.com
X-WR-CALDESC:Events for Zimbabwe UK Business Chamber
REFRESH-INTERVAL;VALUE=DURATION:PT1H
X-Robots-Tag:noindex
X-PUBLISHED-TTL:PT1H
BEGIN:VTIMEZONE
TZID:Europe/London
BEGIN:DAYLIGHT
TZOFFSETFROM:+0000
TZOFFSETTO:+0100
TZNAME:BST
DTSTART:20240331T010000
END:DAYLIGHT
BEGIN:STANDARD
TZOFFSETFROM:+0100
TZOFFSETTO:+0000
TZNAME:GMT
DTSTART:20241027T010000
END:STANDARD
BEGIN:DAYLIGHT
TZOFFSETFROM:+0000
TZOFFSETTO:+0100
TZNAME:BST
DTSTART:20250330T010000
END:DAYLIGHT
BEGIN:STANDARD
TZOFFSETFROM:+0100
TZOFFSETTO:+0000
TZNAME:GMT
DTSTART:20251026T010000
END:STANDARD
BEGIN:DAYLIGHT
TZOFFSETFROM:+0000
TZOFFSETTO:+0100
TZNAME:BST
DTSTART:20260329T010000
END:DAYLIGHT
BEGIN:STANDARD
TZOFFSETFROM:+0100
TZOFFSETTO:+0000
TZNAME:GMT
DTSTART:20261025T010000
END:STANDARD
END:VTIMEZONE
BEGIN:VEVENT
DTSTART;TZID=Europe/London:20250503T110000
DTEND;TZID=Europe/London:20250503T220000
DTSTAMP:20260425T123839
CREATED:20250304T224756Z
LAST-MODIFIED:20250412T133511Z
UID:5555-1746270000-1746309600@zimukbc.com
SUMMARY:Anniversary Celebration Conference - 3rd May 2025
DESCRIPTION: 
URL:https://zimukbc.com/event/anniversary-celebration-conference-3rd-may-2025/
LOCATION:Sketchley Grange Hotel & Spa\, Sketchley Lane\, Burbage\, Hinckley LE10 3HU
CATEGORIES:Conferences
END:VEVENT
END:VCALENDAR