BEGIN:VCALENDAR
VERSION:2.0
PRODID:-//Zimbabwe UK Business Chamber - ECPv6.15.20//NONSGML v1.0//EN
CALSCALE:GREGORIAN
METHOD:PUBLISH
X-ORIGINAL-URL:https://zimukbc.com
X-WR-CALDESC:Events for Zimbabwe UK Business Chamber
REFRESH-INTERVAL;VALUE=DURATION:PT1H
X-Robots-Tag:noindex
X-PUBLISHED-TTL:PT1H
BEGIN:VTIMEZONE
TZID:Europe/London
BEGIN:DAYLIGHT
TZOFFSETFROM:+0000
TZOFFSETTO:+0100
TZNAME:BST
DTSTART:20230326T010000
END:DAYLIGHT
BEGIN:STANDARD
TZOFFSETFROM:+0100
TZOFFSETTO:+0000
TZNAME:GMT
DTSTART:20231029T010000
END:STANDARD
BEGIN:DAYLIGHT
TZOFFSETFROM:+0000
TZOFFSETTO:+0100
TZNAME:BST
DTSTART:20240331T010000
END:DAYLIGHT
BEGIN:STANDARD
TZOFFSETFROM:+0100
TZOFFSETTO:+0000
TZNAME:GMT
DTSTART:20241027T010000
END:STANDARD
BEGIN:DAYLIGHT
TZOFFSETFROM:+0000
TZOFFSETTO:+0100
TZNAME:BST
DTSTART:20250330T010000
END:DAYLIGHT
BEGIN:STANDARD
TZOFFSETFROM:+0100
TZOFFSETTO:+0000
TZNAME:GMT
DTSTART:20251026T010000
END:STANDARD
BEGIN:DAYLIGHT
TZOFFSETFROM:+0000
TZOFFSETTO:+0100
TZNAME:BST
DTSTART:20260329T010000
END:DAYLIGHT
BEGIN:STANDARD
TZOFFSETFROM:+0100
TZOFFSETTO:+0000
TZNAME:GMT
DTSTART:20261025T010000
END:STANDARD
END:VTIMEZONE
BEGIN:VEVENT
DTSTART;TZID=Europe/London:20250306T183000
DTEND;TZID=Europe/London:20250306T203000
DTSTAMP:20260424T225238
CREATED:20250304T213916Z
LAST-MODIFIED:20250304T214330Z
UID:5547-1741285800-1741293000@zimukbc.com
SUMMARY:Member Engagement Meeting - 6th March 2025 at 06:15pm London
DESCRIPTION:  \n 
URL:https://zimukbc.com/event/member-engagement-meeting-6th-march-2025-at-0615pm-london/
LOCATION:Zoom Meeting
CATEGORIES:Engagement Meetings
END:VEVENT
BEGIN:VEVENT
DTSTART;TZID=Europe/London:20240425T184500
DTEND;TZID=Europe/London:20240425T210000
DTSTAMP:20260424T225238
CREATED:20240403T222829Z
LAST-MODIFIED:20240419T102354Z
UID:4276-1714070700-1714078800@zimukbc.com
SUMMARY:Legal Clinic - Business & Work Life in the UK\, 25 April\, 6.45pm to 9.00pm
DESCRIPTION:This is a free online event open to both members and non-members.\nRegister your attendance by completing the registration form below. Once you complete and submit the registration form\, an email with details of the Zoom meeting link for the event will be sent to you. \nWe look forward to seeing you on Thursday 25 April\, 6.45pm to 9.00pm UK Time.
URL:https://zimukbc.com/event/legal-clinic-business-work-life-in-the-uk-25-april-6-45pm-to-9-00pm/
LOCATION:Zoom Meeting
CATEGORIES:Engagement Meetings
END:VEVENT
END:VCALENDAR